BEGIN:VCALENDAR
VERSION:2.0
PRODID:-//Festival Vadefoodies - ECPv4.9.2//NONSGML v1.0//EN
CALSCALE:GREGORIAN
METHOD:PUBLISH
X-WR-CALNAME:Festival Vadefoodies
X-ORIGINAL-URL:https://vadefoodies.cat
X-WR-CALDESC:Events for Festival Vadefoodies
BEGIN:VEVENT
DTSTART;TZID=UTC+0:20180601T180000
DTEND;TZID=UTC+0:20180601T184500
DTSTAMP:20260423T112116
CREATED:20180525T151301Z
LAST-MODIFIED:20180525T151934Z
UID:2404-1527876000-1527878700@vadefoodies.cat
SUMMARY:Formació i Gastronomia
DESCRIPTION:4 Escoles\, 4 Exalumnes i 4 Tècniques \nCol·loqui moderat per Joan Maria Morros\, periodista de Rac1 \n
URL:https://vadefoodies.cat/event/formacio-i-gastronomia/
LOCATION:Escola Pia\, Plaça Castells\, 10\, Igualada\, Barcelona\, 08700\, Espanya
ATTACH;FMTTYPE=image/png:https://vadefoodies.cat/wp-content/uploads/2018/05/entrada-FORMGASTRO.png
ORGANIZER;CN="Vadefoodies":MAILTO:vadefoodies@vadefoodies.cat
END:VEVENT
BEGIN:VEVENT
DTSTART;TZID=UTC+0:20180601T200000
DTEND;TZID=UTC+0:20180601T210000
DTSTAMP:20260423T112116
CREATED:20180525T154027Z
LAST-MODIFIED:20180525T154027Z
UID:2411-1527883200-1527886800@vadefoodies.cat
SUMMARY:ESCUMOSOS ANCESTRALS
DESCRIPTION:Cata d’escumosos \nCamí cap a la puresa i la mínima intervenció. Cata d’escumosos amb Agustí Torelló de AT Roca\, Ruben Parera de Finca Parera i Martí\nTorrallardona de Can Sumoi. \n
URL:https://vadefoodies.cat/event/escumosos-ancestrals/
LOCATION:Escola Pia\, Plaça Castells\, 10\, Igualada\, Barcelona\, 08700\, Espanya
ATTACH;FMTTYPE=image/png:https://vadefoodies.cat/wp-content/uploads/2018/05/entrada-vESCUMOSOS.png
ORGANIZER;CN="Vadefoodies":MAILTO:vadefoodies@vadefoodies.cat
END:VEVENT
BEGIN:VEVENT
DTSTART;TZID=UTC+0:20180601T203000
DTEND;TZID=UTC+0:20180601T220000
DTSTAMP:20260423T112116
CREATED:20180525T154753Z
LAST-MODIFIED:20180525T154753Z
UID:2415-1527885000-1527890400@vadefoodies.cat
SUMMARY:TALLER DE COCTELERIA
DESCRIPTION:Taller amb Damià Mulà \n
URL:https://vadefoodies.cat/event/taller-de-cocteleria/
LOCATION:Escola Pia\, Plaça Castells\, 10\, Igualada\, Barcelona\, 08700\, Espanya
ATTACH;FMTTYPE=image/png:https://vadefoodies.cat/wp-content/uploads/2018/05/entrada-coctel.png
ORGANIZER;CN="Vadefoodies":MAILTO:vadefoodies@vadefoodies.cat
END:VEVENT
END:VCALENDAR