BEGIN:VCALENDAR
VERSION:2.0
PRODID:-//Festival Vadefoodies - ECPv4.9.2//NONSGML v1.0//EN
CALSCALE:GREGORIAN
METHOD:PUBLISH
X-WR-CALNAME:Festival Vadefoodies
X-ORIGINAL-URL:https://vadefoodies.cat
X-WR-CALDESC:Events for Festival Vadefoodies
BEGIN:VEVENT
DTSTART;TZID=UTC+0:20180602T130000
DTEND;TZID=UTC+0:20180602T160000
DTSTAMP:20260423T111952
CREATED:20180508T194847Z
LAST-MODIFIED:20180523T202346Z
UID:2249-1527944400-1527955200@vadefoodies.cat
SUMMARY:Menú de la Vinyala
DESCRIPTION:Menú de la vinyala \n\n– Empedrat de bacallà amb cigronet de l’Alta Anoia \n– Simfonia de Vinyales\, a la gormanda\, de Festa Major i amb calamar\n \n– Postre \n– Beguda \n
URL:https://vadefoodies.cat/event/dinar-de-la-vinyala/
LOCATION:Escola Pia\, Plaça Castells\, 10\, Igualada\, Barcelona\, 08700\, Espanya
ATTACH;FMTTYPE=image/png:https://vadefoodies.cat/wp-content/uploads/2018/05/entrada-vinyales-v2.png
ORGANIZER;CN="Vadefoodies%20i%20la%20Confraria%20de%20la%20Vinyala":MAILTO:vadefoodies@vadefoodies.cat
END:VEVENT
BEGIN:VEVENT
DTSTART;TZID=UTC+0:20180602T180000
DTEND;TZID=UTC+0:20180602T190000
DTSTAMP:20260423T111952
CREATED:20180525T155420Z
LAST-MODIFIED:20180525T155420Z
UID:2419-1527962400-1527966000@vadefoodies.cat
SUMMARY:HEALTHY KITCHEN
DESCRIPTION:Xerrada amb Xavier Pellicer \n
URL:https://vadefoodies.cat/event/healthy-kitchen/
LOCATION:Escola Pia\, Plaça Castells\, 10\, Igualada\, Barcelona\, 08700\, Espanya
ATTACH;FMTTYPE=image/png:https://vadefoodies.cat/wp-content/uploads/2018/05/entrada-HEALTH.png
ORGANIZER;CN="Vadefoodies":MAILTO:vadefoodies@vadefoodies.cat
END:VEVENT
BEGIN:VEVENT
DTSTART;TZID=UTC+0:20180602T190000
DTEND;TZID=UTC+0:20180602T203000
DTSTAMP:20260423T111952
CREATED:20180525T155841Z
LAST-MODIFIED:20180525T155948Z
UID:2423-1527966000-1527971400@vadefoodies.cat
SUMMARY:TAST DE SAKES I CUINA JAPONESA
DESCRIPTION:Tast i maridatge  \nA càrrec de Roger Ortuño de Comer Japonés i Sergi Ortiz\, xef i propietari del restaurant Antic Forn de Cervera. \n
URL:https://vadefoodies.cat/event/tast-de-sakes-i-cuina-japonesa/
LOCATION:Escola Pia\, Plaça Castells\, 10\, Igualada\, Barcelona\, 08700\, Espanya
ATTACH;FMTTYPE=image/png:https://vadefoodies.cat/wp-content/uploads/2018/05/entrada-SAKE.png
ORGANIZER;CN="Vadefoodies":MAILTO:vadefoodies@vadefoodies.cat
END:VEVENT
END:VCALENDAR