BEGIN:VCALENDAR
VERSION:2.0
PRODID:-//Festival Vadefoodies - ECPv4.9.2//NONSGML v1.0//EN
CALSCALE:GREGORIAN
METHOD:PUBLISH
X-WR-CALNAME:Festival Vadefoodies
X-ORIGINAL-URL:https://vadefoodies.cat
X-WR-CALDESC:Events for Festival Vadefoodies
BEGIN:VEVENT
DTSTART;TZID=UTC+0:20190614T203000
DTEND;TZID=UTC+0:20190614T220000
DTSTAMP:20260422T182820
CREATED:20190605T144017Z
LAST-MODIFIED:20190606T101048Z
UID:3011-1560544200-1560549600@vadefoodies.cat
SUMMARY:Concursos de tasts de vins
DESCRIPTION:
URL:https://vadefoodies.cat/event/concurs-de-tast-de-vins/
LOCATION:Museu de la Pell d’Igualada\, Carrer del Dr. Joan Mercader\, 1\, Igualada\, Barcelona\, 08700
ATTACH;FMTTYPE=image/jpeg:https://vadefoodies.cat/wp-content/uploads/2019/06/CONCURSVINS.jpg
ORGANIZER;CN="Vadefoodies":MAILTO:vadefoodies@vadefoodies.cat
END:VEVENT
END:VCALENDAR